BEGIN:VCALENDAR
PRODID:-//www.triobenares.com//EN
VERSION:2.0
METHOD:PUBLISH
BEGIN:VEVENT
DTSTART;TZID=America/New_York:20180304T
DTEND;TZID=America/New_York:20180304T
URL:https://www.triobenares.com/concerts/trio-benares/
SUMMARY:Trio Benares
END:VEVENT
END:VCALENDAR